BEGIN:VCALENDAR
VERSION:2.0
PRODID:-//Cancer Care West - ECPv6.15.5//NONSGML v1.0//EN
CALSCALE:GREGORIAN
METHOD:PUBLISH
X-WR-CALNAME:Cancer Care West
X-ORIGINAL-URL:https://www.cancercarewest.ie
X-WR-CALDESC:Events for Cancer Care West
REFRESH-INTERVAL;VALUE=DURATION:PT1H
X-Robots-Tag:noindex
X-PUBLISHED-TTL:PT1H
BEGIN:VTIMEZONE
TZID:Europe/Dublin
BEGIN:DAYLIGHT
TZOFFSETFROM:+0000
TZOFFSETTO:+0100
TZNAME:IST
DTSTART:20260329T010000
END:DAYLIGHT
BEGIN:STANDARD
TZOFFSETFROM:+0100
TZOFFSETTO:+0000
TZNAME:GMT
DTSTART:20261025T010000
END:STANDARD
END:VTIMEZONE
BEGIN:VEVENT
DTSTART;TZID=Europe/Dublin:20260304T103000
DTEND;TZID=Europe/Dublin:20260304T130000
DTSTAMP:20260423T083603
CREATED:20260121T103929Z
LAST-MODIFIED:20260121T105017Z
UID:10013229-1772620200-1772629200@www.cancercarewest.ie
SUMMARY:Cancer Thriving & Surviving Programme
DESCRIPTION:A Self-Management Programme developed by Stanford University. \nThe Cancer Thriving and Surviving Programme can offer you a sense of confidence and a chance to learn skills that help you manage your health when moving on from your cancer treatment. \nThe programme is In-Person in the Cancer Care West Support Centre\, 72 Seamus Quirke Road\, Galway. Please phone 091 540040 for further details. \nIt is a six-week course starting on Wednesday 18th February 2026 from 10.30 am to 1 pm \n 
URL:https://www.cancercarewest.ie/event/__trashed-2-2/2026-03-04/
LOCATION:Cancer Care West Support Centre\, 72 Old Seamus Quirke Road\, Galway\, Galway\, H91 C9W0\, Ireland
CATEGORIES:Group Meeting
ATTACH;FMTTYPE=image/jpeg:https://www.cancercarewest.ie/wp-content/uploads/2025/06/flower-2.jpg
ORGANIZER;CN="Cancer Care West":MAILTO:support@cancercarewest.ie
END:VEVENT
END:VCALENDAR