BEGIN:VCALENDAR
VERSION:2.0
PRODID:-//Cancer Care West - ECPv6.15.5//NONSGML v1.0//EN
CALSCALE:GREGORIAN
METHOD:PUBLISH
X-WR-CALNAME:Cancer Care West
X-ORIGINAL-URL:https://www.cancercarewest.ie
X-WR-CALDESC:Events for Cancer Care West
REFRESH-INTERVAL;VALUE=DURATION:PT1H
X-Robots-Tag:noindex
X-PUBLISHED-TTL:PT1H
BEGIN:VTIMEZONE
TZID:Europe/Dublin
BEGIN:DAYLIGHT
TZOFFSETFROM:+0000
TZOFFSETTO:+0100
TZNAME:IST
DTSTART:20260329T010000
END:DAYLIGHT
BEGIN:STANDARD
TZOFFSETFROM:+0100
TZOFFSETTO:+0000
TZNAME:GMT
DTSTART:20261025T010000
END:STANDARD
END:VTIMEZONE
BEGIN:VEVENT
DTSTART;TZID=Europe/Dublin:20260313T103000
DTEND;TZID=Europe/Dublin:20260313T130000
DTSTAMP:20260421T172234
CREATED:20260311T111409Z
LAST-MODIFIED:20260311T111409Z
UID:10013235-1773397800-1773406800@www.cancercarewest.ie
SUMMARY:The Men's Morning
DESCRIPTION:A peer support group for men living with and beyond a diagnosis of cancer.  Open to men of all ages\, stages\, whether newly diagnosed\, on ongoing treatment or post treatment.  The group meets once a month on a Friday morning.  A chance to meet and chat in a relaxed atmosphere over a cup of tea or coffee. Call Cancer Care West Support Centre on 091 540040
URL:https://www.cancercarewest.ie/event/the-mens-morning-2-2/
LOCATION:Cancer Care West Support Centre\, 72 Old Seamus Quirke Road\, Galway\, Galway\, H91 C9W0\, Ireland
CATEGORIES:Group Meeting
ATTACH;FMTTYPE=image/png:https://www.cancercarewest.ie/wp-content/uploads/2025/05/wf2renf6.png
ORGANIZER;CN="Cancer Care West":MAILTO:support@cancercarewest.ie
END:VEVENT
BEGIN:VEVENT
DTSTART;TZID=Europe/Dublin:20260313T140000
DTEND;TZID=Europe/Dublin:20260313T153000
DTSTAMP:20260421T172234
CREATED:20250506T163209Z
LAST-MODIFIED:20260311T111548Z
UID:10013226-1773410400-1773415800@www.cancercarewest.ie
SUMMARY:Multiple Myeloma Support Group
DESCRIPTION:A peer support group for those living with a diagnosis of multiple myeloma\, whether they are newly diagnosed or have been living with multiple myeloma for some time.  The group meets every 2nd month on a Friday afternoon.  A chance to meet and chat in a relaxed environment. Call the Cancer Care West Support Centre on 091 540040
URL:https://www.cancercarewest.ie/event/multiple-myeloma-support-group/2026-03-13/
LOCATION:Galway
CATEGORIES:Group Meeting
ATTACH;FMTTYPE=image/jpeg:https://www.cancercarewest.ie/wp-content/uploads/2025/05/multiple-myeloma.jpg
END:VEVENT
END:VCALENDAR