BEGIN:VCALENDAR
VERSION:2.0
PRODID:-//Cancer Care West - ECPv6.15.5//NONSGML v1.0//EN
CALSCALE:GREGORIAN
METHOD:PUBLISH
X-ORIGINAL-URL:https://www.cancercarewest.ie
X-WR-CALDESC:Events for Cancer Care West
REFRESH-INTERVAL;VALUE=DURATION:PT1H
X-Robots-Tag:noindex
X-PUBLISHED-TTL:PT1H
BEGIN:VTIMEZONE
TZID:Europe/Dublin
BEGIN:DAYLIGHT
TZOFFSETFROM:+0000
TZOFFSETTO:+0100
TZNAME:IST
DTSTART:20300331T010000
END:DAYLIGHT
BEGIN:STANDARD
TZOFFSETFROM:+0100
TZOFFSETTO:+0000
TZNAME:GMT
DTSTART:20301027T010000
END:STANDARD
END:VTIMEZONE
BEGIN:VEVENT
DTSTART;TZID=Europe/Dublin:20300502T103000
DTEND;TZID=Europe/Dublin:20300502T113000
DTSTAMP:20260422T225626
CREATED:20250520T144500Z
LAST-MODIFIED:20251001T093338Z
UID:10008153-1903948200-1903951800@www.cancercarewest.ie
SUMMARY:Yoga
DESCRIPTION:These in-person and online classes with experienced yoga teacher Pauline Berkley aim to promote physical\, mental\, and emotional well-being. Call 091 540040 to book onto this group event.
URL:https://www.cancercarewest.ie/event/yoga/2030-05-02/
LOCATION:Cancer Care West Support Centre\, 72 Old Seamus Quirke Road\, Galway\, Galway\, H91 C9W0\, Ireland
CATEGORIES:Exercise Classes,Yoga
ATTACH;FMTTYPE=image/jpeg:https://www.cancercarewest.ie/wp-content/uploads/2025/06/Yoga-class.jpg
ORGANIZER;CN="Cancer Care West":MAILTO:support@cancercarewest.ie
END:VEVENT
BEGIN:VEVENT
DTSTART;TZID=Europe/Dublin:20300506T143000
DTEND;TZID=Europe/Dublin:20300506T153000
DTSTAMP:20260422T225626
CREATED:20250930T142942Z
LAST-MODIFIED:20251001T092949Z
UID:10012463-1904308200-1904311800@www.cancercarewest.ie
SUMMARY:Yoga
DESCRIPTION:These in-person and online classes with experienced yoga teacher Pauline Berkley aim to promote physical\, mental\, and emotional well-being. Call 091 540040 to book onto this group event.
URL:https://www.cancercarewest.ie/event/yoga-2-2/2030-05-06/
LOCATION:Cancer Care West Support Centre\, 72 Old Seamus Quirke Road\, Galway\, Galway\, H91 C9W0\, Ireland
CATEGORIES:Yoga
ATTACH;FMTTYPE=image/jpeg:https://www.cancercarewest.ie/wp-content/uploads/2025/06/Yoga-class.jpg
ORGANIZER;CN="Cancer Care West":MAILTO:support@cancercarewest.ie
END:VEVENT
BEGIN:VEVENT
DTSTART;TZID=Europe/Dublin:20300509T103000
DTEND;TZID=Europe/Dublin:20300509T113000
DTSTAMP:20260422T225626
CREATED:20250520T144500Z
LAST-MODIFIED:20251001T093338Z
UID:10008154-1904553000-1904556600@www.cancercarewest.ie
SUMMARY:Yoga
DESCRIPTION:These in-person and online classes with experienced yoga teacher Pauline Berkley aim to promote physical\, mental\, and emotional well-being. Call 091 540040 to book onto this group event.
URL:https://www.cancercarewest.ie/event/yoga/2030-05-09/
LOCATION:Cancer Care West Support Centre\, 72 Old Seamus Quirke Road\, Galway\, Galway\, H91 C9W0\, Ireland
CATEGORIES:Exercise Classes,Yoga
ATTACH;FMTTYPE=image/jpeg:https://www.cancercarewest.ie/wp-content/uploads/2025/06/Yoga-class.jpg
ORGANIZER;CN="Cancer Care West":MAILTO:support@cancercarewest.ie
END:VEVENT
BEGIN:VEVENT
DTSTART;TZID=Europe/Dublin:20300513T143000
DTEND;TZID=Europe/Dublin:20300513T153000
DTSTAMP:20260422T225626
CREATED:20250930T142942Z
LAST-MODIFIED:20251001T092949Z
UID:10012464-1904913000-1904916600@www.cancercarewest.ie
SUMMARY:Yoga
DESCRIPTION:These in-person and online classes with experienced yoga teacher Pauline Berkley aim to promote physical\, mental\, and emotional well-being. Call 091 540040 to book onto this group event.
URL:https://www.cancercarewest.ie/event/yoga-2-2/2030-05-13/
LOCATION:Cancer Care West Support Centre\, 72 Old Seamus Quirke Road\, Galway\, Galway\, H91 C9W0\, Ireland
CATEGORIES:Yoga
ATTACH;FMTTYPE=image/jpeg:https://www.cancercarewest.ie/wp-content/uploads/2025/06/Yoga-class.jpg
ORGANIZER;CN="Cancer Care West":MAILTO:support@cancercarewest.ie
END:VEVENT
BEGIN:VEVENT
DTSTART;TZID=Europe/Dublin:20300516T103000
DTEND;TZID=Europe/Dublin:20300516T113000
DTSTAMP:20260422T225626
CREATED:20250520T144500Z
LAST-MODIFIED:20251001T093338Z
UID:10008155-1905157800-1905161400@www.cancercarewest.ie
SUMMARY:Yoga
DESCRIPTION:These in-person and online classes with experienced yoga teacher Pauline Berkley aim to promote physical\, mental\, and emotional well-being. Call 091 540040 to book onto this group event.
URL:https://www.cancercarewest.ie/event/yoga/2030-05-16/
LOCATION:Cancer Care West Support Centre\, 72 Old Seamus Quirke Road\, Galway\, Galway\, H91 C9W0\, Ireland
CATEGORIES:Exercise Classes,Yoga
ATTACH;FMTTYPE=image/jpeg:https://www.cancercarewest.ie/wp-content/uploads/2025/06/Yoga-class.jpg
ORGANIZER;CN="Cancer Care West":MAILTO:support@cancercarewest.ie
END:VEVENT
BEGIN:VEVENT
DTSTART;TZID=Europe/Dublin:20300520T143000
DTEND;TZID=Europe/Dublin:20300520T153000
DTSTAMP:20260422T225626
CREATED:20250930T142942Z
LAST-MODIFIED:20251001T092949Z
UID:10012465-1905517800-1905521400@www.cancercarewest.ie
SUMMARY:Yoga
DESCRIPTION:These in-person and online classes with experienced yoga teacher Pauline Berkley aim to promote physical\, mental\, and emotional well-being. Call 091 540040 to book onto this group event.
URL:https://www.cancercarewest.ie/event/yoga-2-2/2030-05-20/
LOCATION:Cancer Care West Support Centre\, 72 Old Seamus Quirke Road\, Galway\, Galway\, H91 C9W0\, Ireland
CATEGORIES:Yoga
ATTACH;FMTTYPE=image/jpeg:https://www.cancercarewest.ie/wp-content/uploads/2025/06/Yoga-class.jpg
ORGANIZER;CN="Cancer Care West":MAILTO:support@cancercarewest.ie
END:VEVENT
BEGIN:VEVENT
DTSTART;TZID=Europe/Dublin:20300523T103000
DTEND;TZID=Europe/Dublin:20300523T113000
DTSTAMP:20260422T225626
CREATED:20250520T144500Z
LAST-MODIFIED:20251001T093338Z
UID:10012202-1905762600-1905766200@www.cancercarewest.ie
SUMMARY:Yoga
DESCRIPTION:These in-person and online classes with experienced yoga teacher Pauline Berkley aim to promote physical\, mental\, and emotional well-being. Call 091 540040 to book onto this group event.
URL:https://www.cancercarewest.ie/event/yoga/2030-05-23/
LOCATION:Cancer Care West Support Centre\, 72 Old Seamus Quirke Road\, Galway\, Galway\, H91 C9W0\, Ireland
CATEGORIES:Exercise Classes,Yoga
ATTACH;FMTTYPE=image/jpeg:https://www.cancercarewest.ie/wp-content/uploads/2025/06/Yoga-class.jpg
ORGANIZER;CN="Cancer Care West":MAILTO:support@cancercarewest.ie
END:VEVENT
BEGIN:VEVENT
DTSTART;TZID=Europe/Dublin:20300527T143000
DTEND;TZID=Europe/Dublin:20300527T153000
DTSTAMP:20260422T225626
CREATED:20250930T142942Z
LAST-MODIFIED:20251001T092949Z
UID:10012466-1906122600-1906126200@www.cancercarewest.ie
SUMMARY:Yoga
DESCRIPTION:These in-person and online classes with experienced yoga teacher Pauline Berkley aim to promote physical\, mental\, and emotional well-being. Call 091 540040 to book onto this group event.
URL:https://www.cancercarewest.ie/event/yoga-2-2/2030-05-27/
LOCATION:Cancer Care West Support Centre\, 72 Old Seamus Quirke Road\, Galway\, Galway\, H91 C9W0\, Ireland
CATEGORIES:Yoga
ATTACH;FMTTYPE=image/jpeg:https://www.cancercarewest.ie/wp-content/uploads/2025/06/Yoga-class.jpg
ORGANIZER;CN="Cancer Care West":MAILTO:support@cancercarewest.ie
END:VEVENT
BEGIN:VEVENT
DTSTART;TZID=Europe/Dublin:20300530T103000
DTEND;TZID=Europe/Dublin:20300530T113000
DTSTAMP:20260422T225626
CREATED:20250520T144500Z
LAST-MODIFIED:20251001T093338Z
UID:10012203-1906367400-1906371000@www.cancercarewest.ie
SUMMARY:Yoga
DESCRIPTION:These in-person and online classes with experienced yoga teacher Pauline Berkley aim to promote physical\, mental\, and emotional well-being. Call 091 540040 to book onto this group event.
URL:https://www.cancercarewest.ie/event/yoga/2030-05-30/
LOCATION:Cancer Care West Support Centre\, 72 Old Seamus Quirke Road\, Galway\, Galway\, H91 C9W0\, Ireland
CATEGORIES:Exercise Classes,Yoga
ATTACH;FMTTYPE=image/jpeg:https://www.cancercarewest.ie/wp-content/uploads/2025/06/Yoga-class.jpg
ORGANIZER;CN="Cancer Care West":MAILTO:support@cancercarewest.ie
END:VEVENT
END:VCALENDAR