BEGIN:VCALENDAR
VERSION:2.0
PRODID:-//Cancer Care West - ECPv6.15.5//NONSGML v1.0//EN
CALSCALE:GREGORIAN
METHOD:PUBLISH
X-ORIGINAL-URL:https://www.cancercarewest.ie
X-WR-CALDESC:Events for Cancer Care West
REFRESH-INTERVAL;VALUE=DURATION:PT1H
X-Robots-Tag:noindex
X-PUBLISHED-TTL:PT1H
BEGIN:VTIMEZONE
TZID:Europe/Dublin
BEGIN:DAYLIGHT
TZOFFSETFROM:+0000
TZOFFSETTO:+0100
TZNAME:IST
DTSTART:20300331T010000
END:DAYLIGHT
BEGIN:STANDARD
TZOFFSETFROM:+0100
TZOFFSETTO:+0000
TZNAME:GMT
DTSTART:20301027T010000
END:STANDARD
END:VTIMEZONE
BEGIN:VEVENT
DTSTART;TZID=Europe/Dublin:20300701T120000
DTEND;TZID=Europe/Dublin:20300701T130000
DTSTAMP:20260420T220830
CREATED:20250613T114531Z
LAST-MODIFIED:20250710T134425Z
UID:10012821-1909137600-1909141200@www.cancercarewest.ie
SUMMARY:Flexibility Exercise Class
DESCRIPTION:These classes\, held in our Support Centre gym aim of help improve flexibility. Fitness assessment required before you enrol to this group class. Phone 091540040 for more information.
URL:https://www.cancercarewest.ie/event/smart-yoga-beginners/2030-07-01/
LOCATION:Cancer Care West Support Centre\, 72 Old Seamus Quirke Road\, Galway\, Galway\, H91 C9W0\, Ireland
CATEGORIES:Exercise Classes
ATTACH;FMTTYPE=image/jpeg:https://www.cancercarewest.ie/wp-content/uploads/2025/05/smart-yoga-1.jpg
ORGANIZER;CN="Cancer Care West":MAILTO:support@cancercarewest.ie
END:VEVENT
BEGIN:VEVENT
DTSTART;TZID=Europe/Dublin:20300701T143000
DTEND;TZID=Europe/Dublin:20300701T153000
DTSTAMP:20260420T220830
CREATED:20250930T142942Z
LAST-MODIFIED:20251001T092949Z
UID:10012823-1909146600-1909150200@www.cancercarewest.ie
SUMMARY:Yoga
DESCRIPTION:These in-person and online classes with experienced yoga teacher Pauline Berkley aim to promote physical\, mental\, and emotional well-being. Call 091 540040 to book onto this group event.
URL:https://www.cancercarewest.ie/event/yoga-2-2/2030-07-01/
LOCATION:Cancer Care West Support Centre\, 72 Old Seamus Quirke Road\, Galway\, Galway\, H91 C9W0\, Ireland
CATEGORIES:Yoga
ATTACH;FMTTYPE=image/jpeg:https://www.cancercarewest.ie/wp-content/uploads/2025/06/Yoga-class.jpg
ORGANIZER;CN="Cancer Care West":MAILTO:support@cancercarewest.ie
END:VEVENT
BEGIN:VEVENT
DTSTART;TZID=Europe/Dublin:20300704T103000
DTEND;TZID=Europe/Dublin:20300704T113000
DTSTAMP:20260420T220830
CREATED:20250520T144500Z
LAST-MODIFIED:20251001T093338Z
UID:10012829-1909391400-1909395000@www.cancercarewest.ie
SUMMARY:Yoga
DESCRIPTION:These in-person and online classes with experienced yoga teacher Pauline Berkley aim to promote physical\, mental\, and emotional well-being. Call 091 540040 to book onto this group event.
URL:https://www.cancercarewest.ie/event/yoga/2030-07-04/
LOCATION:Cancer Care West Support Centre\, 72 Old Seamus Quirke Road\, Galway\, Galway\, H91 C9W0\, Ireland
CATEGORIES:Exercise Classes,Yoga
ATTACH;FMTTYPE=image/jpeg:https://www.cancercarewest.ie/wp-content/uploads/2025/06/Yoga-class.jpg
ORGANIZER;CN="Cancer Care West":MAILTO:support@cancercarewest.ie
END:VEVENT
BEGIN:VEVENT
DTSTART;TZID=Europe/Dublin:20300708T120000
DTEND;TZID=Europe/Dublin:20300708T130000
DTSTAMP:20260420T220830
CREATED:20250613T114531Z
LAST-MODIFIED:20250710T134425Z
UID:10012822-1909742400-1909746000@www.cancercarewest.ie
SUMMARY:Flexibility Exercise Class
DESCRIPTION:These classes\, held in our Support Centre gym aim of help improve flexibility. Fitness assessment required before you enrol to this group class. Phone 091540040 for more information.
URL:https://www.cancercarewest.ie/event/smart-yoga-beginners/2030-07-08/
LOCATION:Cancer Care West Support Centre\, 72 Old Seamus Quirke Road\, Galway\, Galway\, H91 C9W0\, Ireland
CATEGORIES:Exercise Classes
ATTACH;FMTTYPE=image/jpeg:https://www.cancercarewest.ie/wp-content/uploads/2025/05/smart-yoga-1.jpg
ORGANIZER;CN="Cancer Care West":MAILTO:support@cancercarewest.ie
END:VEVENT
BEGIN:VEVENT
DTSTART;TZID=Europe/Dublin:20300708T143000
DTEND;TZID=Europe/Dublin:20300708T153000
DTSTAMP:20260420T220830
CREATED:20250930T142942Z
LAST-MODIFIED:20251001T092949Z
UID:10012824-1909751400-1909755000@www.cancercarewest.ie
SUMMARY:Yoga
DESCRIPTION:These in-person and online classes with experienced yoga teacher Pauline Berkley aim to promote physical\, mental\, and emotional well-being. Call 091 540040 to book onto this group event.
URL:https://www.cancercarewest.ie/event/yoga-2-2/2030-07-08/
LOCATION:Cancer Care West Support Centre\, 72 Old Seamus Quirke Road\, Galway\, Galway\, H91 C9W0\, Ireland
CATEGORIES:Yoga
ATTACH;FMTTYPE=image/jpeg:https://www.cancercarewest.ie/wp-content/uploads/2025/06/Yoga-class.jpg
ORGANIZER;CN="Cancer Care West":MAILTO:support@cancercarewest.ie
END:VEVENT
BEGIN:VEVENT
DTSTART;TZID=Europe/Dublin:20300711T103000
DTEND;TZID=Europe/Dublin:20300711T113000
DTSTAMP:20260420T220830
CREATED:20250520T144500Z
LAST-MODIFIED:20251001T093338Z
UID:10012830-1909996200-1909999800@www.cancercarewest.ie
SUMMARY:Yoga
DESCRIPTION:These in-person and online classes with experienced yoga teacher Pauline Berkley aim to promote physical\, mental\, and emotional well-being. Call 091 540040 to book onto this group event.
URL:https://www.cancercarewest.ie/event/yoga/2030-07-11/
LOCATION:Cancer Care West Support Centre\, 72 Old Seamus Quirke Road\, Galway\, Galway\, H91 C9W0\, Ireland
CATEGORIES:Exercise Classes,Yoga
ATTACH;FMTTYPE=image/jpeg:https://www.cancercarewest.ie/wp-content/uploads/2025/06/Yoga-class.jpg
ORGANIZER;CN="Cancer Care West":MAILTO:support@cancercarewest.ie
END:VEVENT
BEGIN:VEVENT
DTSTART;TZID=Europe/Dublin:20300715T143000
DTEND;TZID=Europe/Dublin:20300715T153000
DTSTAMP:20260420T220830
CREATED:20250930T142942Z
LAST-MODIFIED:20251001T092949Z
UID:10012825-1910356200-1910359800@www.cancercarewest.ie
SUMMARY:Yoga
DESCRIPTION:These in-person and online classes with experienced yoga teacher Pauline Berkley aim to promote physical\, mental\, and emotional well-being. Call 091 540040 to book onto this group event.
URL:https://www.cancercarewest.ie/event/yoga-2-2/2030-07-15/
LOCATION:Cancer Care West Support Centre\, 72 Old Seamus Quirke Road\, Galway\, Galway\, H91 C9W0\, Ireland
CATEGORIES:Yoga
ATTACH;FMTTYPE=image/jpeg:https://www.cancercarewest.ie/wp-content/uploads/2025/06/Yoga-class.jpg
ORGANIZER;CN="Cancer Care West":MAILTO:support@cancercarewest.ie
END:VEVENT
BEGIN:VEVENT
DTSTART;TZID=Europe/Dublin:20300718T103000
DTEND;TZID=Europe/Dublin:20300718T113000
DTSTAMP:20260420T220830
CREATED:20250520T144500Z
LAST-MODIFIED:20251001T093338Z
UID:10012831-1910601000-1910604600@www.cancercarewest.ie
SUMMARY:Yoga
DESCRIPTION:These in-person and online classes with experienced yoga teacher Pauline Berkley aim to promote physical\, mental\, and emotional well-being. Call 091 540040 to book onto this group event.
URL:https://www.cancercarewest.ie/event/yoga/2030-07-18/
LOCATION:Cancer Care West Support Centre\, 72 Old Seamus Quirke Road\, Galway\, Galway\, H91 C9W0\, Ireland
CATEGORIES:Exercise Classes,Yoga
ATTACH;FMTTYPE=image/jpeg:https://www.cancercarewest.ie/wp-content/uploads/2025/06/Yoga-class.jpg
ORGANIZER;CN="Cancer Care West":MAILTO:support@cancercarewest.ie
END:VEVENT
BEGIN:VEVENT
DTSTART;TZID=Europe/Dublin:20300722T143000
DTEND;TZID=Europe/Dublin:20300722T153000
DTSTAMP:20260420T220830
CREATED:20250930T142942Z
LAST-MODIFIED:20251001T092949Z
UID:10012826-1910961000-1910964600@www.cancercarewest.ie
SUMMARY:Yoga
DESCRIPTION:These in-person and online classes with experienced yoga teacher Pauline Berkley aim to promote physical\, mental\, and emotional well-being. Call 091 540040 to book onto this group event.
URL:https://www.cancercarewest.ie/event/yoga-2-2/2030-07-22/
LOCATION:Cancer Care West Support Centre\, 72 Old Seamus Quirke Road\, Galway\, Galway\, H91 C9W0\, Ireland
CATEGORIES:Yoga
ATTACH;FMTTYPE=image/jpeg:https://www.cancercarewest.ie/wp-content/uploads/2025/06/Yoga-class.jpg
ORGANIZER;CN="Cancer Care West":MAILTO:support@cancercarewest.ie
END:VEVENT
BEGIN:VEVENT
DTSTART;TZID=Europe/Dublin:20300725T103000
DTEND;TZID=Europe/Dublin:20300725T113000
DTSTAMP:20260420T220830
CREATED:20250520T144500Z
LAST-MODIFIED:20251001T093338Z
UID:10012832-1911205800-1911209400@www.cancercarewest.ie
SUMMARY:Yoga
DESCRIPTION:These in-person and online classes with experienced yoga teacher Pauline Berkley aim to promote physical\, mental\, and emotional well-being. Call 091 540040 to book onto this group event.
URL:https://www.cancercarewest.ie/event/yoga/2030-07-25/
LOCATION:Cancer Care West Support Centre\, 72 Old Seamus Quirke Road\, Galway\, Galway\, H91 C9W0\, Ireland
CATEGORIES:Exercise Classes,Yoga
ATTACH;FMTTYPE=image/jpeg:https://www.cancercarewest.ie/wp-content/uploads/2025/06/Yoga-class.jpg
ORGANIZER;CN="Cancer Care West":MAILTO:support@cancercarewest.ie
END:VEVENT
BEGIN:VEVENT
DTSTART;TZID=Europe/Dublin:20300729T143000
DTEND;TZID=Europe/Dublin:20300729T153000
DTSTAMP:20260420T220830
CREATED:20250930T142942Z
LAST-MODIFIED:20251001T092949Z
UID:10013181-1911565800-1911569400@www.cancercarewest.ie
SUMMARY:Yoga
DESCRIPTION:These in-person and online classes with experienced yoga teacher Pauline Berkley aim to promote physical\, mental\, and emotional well-being. Call 091 540040 to book onto this group event.
URL:https://www.cancercarewest.ie/event/yoga-2-2/2030-07-29/
LOCATION:Cancer Care West Support Centre\, 72 Old Seamus Quirke Road\, Galway\, Galway\, H91 C9W0\, Ireland
CATEGORIES:Yoga
ATTACH;FMTTYPE=image/jpeg:https://www.cancercarewest.ie/wp-content/uploads/2025/06/Yoga-class.jpg
ORGANIZER;CN="Cancer Care West":MAILTO:support@cancercarewest.ie
END:VEVENT
END:VCALENDAR