BEGIN:VCALENDAR
VERSION:2.0
PRODID:-//Cancer Care West - ECPv6.15.5//NONSGML v1.0//EN
CALSCALE:GREGORIAN
METHOD:PUBLISH
X-WR-CALNAME:Cancer Care West
X-ORIGINAL-URL:https://www.cancercarewest.ie
X-WR-CALDESC:Events for Cancer Care West
REFRESH-INTERVAL;VALUE=DURATION:PT1H
X-Robots-Tag:noindex
X-PUBLISHED-TTL:PT1H
BEGIN:VTIMEZONE
TZID:Europe/Dublin
BEGIN:DAYLIGHT
TZOFFSETFROM:+0000
TZOFFSETTO:+0100
TZNAME:IST
DTSTART:20250330T010000
END:DAYLIGHT
BEGIN:STANDARD
TZOFFSETFROM:+0100
TZOFFSETTO:+0000
TZNAME:GMT
DTSTART:20251026T010000
END:STANDARD
END:VTIMEZONE
BEGIN:VEVENT
DTSTART;TZID=Europe/Dublin:20250811T110000
DTEND;TZID=Europe/Dublin:20250811T123000
DTSTAMP:20260421T181652
CREATED:20250707T151538Z
LAST-MODIFIED:20250709T143053Z
UID:10012765-1754910000-1754915400@www.cancercarewest.ie
SUMMARY:Art Therapy Workshop Bereavement Workshop
DESCRIPTION:Art therapy is a form of psychotherapy that uses art making and creative practices as a means of communication and self-expression.\nYou do not need to be able to draw or paint. It is not about creating works of art but using art as a creative outlet for expression.\nSuitable for all ages. This group workshop is designed with a focus on those who have experienced bereavement due to cancer. \nArt therapy workshop promo poster
URL:https://www.cancercarewest.ie/event/art-therapy-workshop-bereavement-workshop/
LOCATION:Cancer Care West Support Centre\, 72 Old Seamus Quirke Road\, Galway\, Galway\, H91 C9W0\, Ireland
CATEGORIES:Group Meeting
ATTACH;FMTTYPE=image/jpeg:https://www.cancercarewest.ie/wp-content/uploads/2025/07/Art-Therapy-Bereavement-Workshop.jpg
ORGANIZER;CN="Cancer Care West":MAILTO:support@cancercarewest.ie
END:VEVENT
BEGIN:VEVENT
DTSTART;TZID=Europe/Dublin:20250811T143000
DTEND;TZID=Europe/Dublin:20250811T153000
DTSTAMP:20260421T181652
CREATED:20250613T120511Z
LAST-MODIFIED:20251001T093124Z
UID:10012216-1754922600-1754926200@www.cancercarewest.ie
SUMMARY:Yoga
DESCRIPTION:These in-person and online classes with experienced yoga teacher Pauline Berkley aim to promote physical\, mental\, and emotional well-being. Call 091 540040 to book onto this group event.
URL:https://www.cancercarewest.ie/event/yoga-2/2025-08-11/
LOCATION:Cancer Care West Support Centre\, 72 Old Seamus Quirke Road\, Galway\, Galway\, H91 C9W0\, Ireland
CATEGORIES:Yoga
ATTACH;FMTTYPE=image/jpeg:https://www.cancercarewest.ie/wp-content/uploads/2025/06/Yoga-class.jpg
ORGANIZER;CN="Cancer Care West":MAILTO:support@cancercarewest.ie
END:VEVENT
BEGIN:VEVENT
DTSTART;TZID=Europe/Dublin:20250814T103000
DTEND;TZID=Europe/Dublin:20250814T113000
DTSTAMP:20260421T181652
CREATED:20250520T144500Z
LAST-MODIFIED:20251001T093338Z
UID:10007907-1755167400-1755171000@www.cancercarewest.ie
SUMMARY:Yoga
DESCRIPTION:These in-person and online classes with experienced yoga teacher Pauline Berkley aim to promote physical\, mental\, and emotional well-being. Call 091 540040 to book onto this group event.
URL:https://www.cancercarewest.ie/event/yoga/2025-08-14/
LOCATION:Cancer Care West Support Centre\, 72 Old Seamus Quirke Road\, Galway\, Galway\, H91 C9W0\, Ireland
CATEGORIES:Exercise Classes,Yoga
ATTACH;FMTTYPE=image/jpeg:https://www.cancercarewest.ie/wp-content/uploads/2025/06/Yoga-class.jpg
ORGANIZER;CN="Cancer Care West":MAILTO:support@cancercarewest.ie
END:VEVENT
END:VCALENDAR